{"text_format":"1","workbook":"xlsx","n_sheets":3,"sheets":["学校ＩＤ一覧","申込書","健康観察簿"],"not_rendered":{"charts":0,"images":1,"macros":1,"external_links":0,"defined_names":3,"comments":1,"pivot_tables":0},"unopened":[],"bounds":{"document_bytes":16777216,"sheet_cells":100000,"rows_first":2000,"rows_last":500,"rows_between":2000,"halvings":0,"cell_chars":16384,"cell_head_chars":4096},"cells_cut":0,"cells_raw":0,"read":"whole","date_system":"1900"}

{"sheet":"学校ＩＤ一覧","index":0,"n_rows":116,"n_cols":5,"rows_kept":116,"cut":false,"hidden":false,"merged":[[44,0,51,0],[1,0,18,0],[19,0,22,0],[23,0,25,0],[26,0,34,0],[35,0,43,0],[52,0,61,0],[62,0,63,0],[64,0,68,0],[71,0,76,0],[78,0,100,0]]}
["地区","学校ＩＤ","学校名"]
["盛岡",11,"盛岡市立下橋中学校"]
[null,12,"盛岡市立下小路中学校"]
[null,13,"盛岡市立厨川中学校"]
[null,14,"盛岡市立仙北中学校"]
[null,15,"盛岡市立大宮中学校"]
[null,16,"盛岡市立米内中学校"]
[null,17,"盛岡市立黒石野中学校"]
[null,18,"盛岡市立城西中学校"]
[null,19,"盛岡市立北陵中学校"]
[null,20,"盛岡市立松園中学校"]
[null,21,"盛岡市立見前中学校"]
[null,22,"盛岡市立飯岡中学校"]
[null,23,"盛岡市立乙部中学校"]
[null,24,"盛岡市立見前南中学校"]
[null,25,"盛岡市立北松園中学校"]
[null,26,"岩手大学教育学部附属中学校"]
[null,27,"盛岡白百合学園中学校"]
[null,28,"盛岡中央高校附属中学校"]
["紫波",29,"矢巾町立矢巾中学校"]
[null,30,"矢巾町立矢巾北中学校"]
[null,31,"紫波町立紫波第一中学校"]
[null,32,"紫波町立紫波第三中学校"]
["岩手",33,"雫石町立雫石中学校"]
[null,34,"滝沢市立滝沢南中学校"]
[null,35,"滝沢市立滝沢第二中学校"]
["花巻",36,"花巻市立花巻中学校"]
[null,37,"花巻市立花巻北中学校"]
[null,38,"花巻市立南城中学校"]
[null,39,"花巻市立湯口中学校"]
[null,40,"花巻市立矢沢中学校"]
[null,41,"花巻市立西南中学校"]
[null,42,"花巻市立大迫中学校"]
[null,43,"花巻市立石鳥谷中学校"]
[null,44,"花巻市立東和中学校"]
["和賀",45,"北上市立上野中学校"]
[null,46,"北上市立北上中学校"]
[null,47,"北上市立東陵中学校"]
[null,48,"北上市立飯豊中学校"]
[null,49,"北上市立北上北中学校"]
[null,50,"北上市立南中学校"]
[null,51,"北上市立江釣子中学校"]
[null,52,"北上市立和賀西中学校"]
[null,53,"西和賀町立沢内中学校"]
["胆江",54,"奥州市立水沢中学校"]
[null,55,"奥州市立東水沢中学校"]
[null,56,"奥州市立水沢南中学校"]
[null,57,"奥州市立江刺第一中学校"]
[null,58,"奥州市立前沢中学校"]
[null,59,"奥州市立胆沢中学校"]
[null,60,"奥州市立衣川中学校"]
[null,61,"金ケ崎町立金ケ崎中学校"]
["一関",62,"一関市立磐井中学校"]
[null,63,"一関市立一関東中学校"]
[null,64,"一関市立舞川中学校"]
[null,65,"一関市立花泉中学校"]
[null,66,"一関市立千厩中学校"]
[null,67,"一関市立大東中学校"]
[null,68,"一関市立東山中学校"]
[null,69,"一関市立室根中学校"]
[null,70,"一関市立川崎中学校"]
[null,71,"平泉町立平泉中学校"]
["気仙",72,"大船渡市立第一中学校"]
[null,73,"大船渡市立東朋中学校"]
["釜石大槌",74,"釜石市立釜石中学校"]
[null,75,"釜石市立釜石東中学校"]
[null,76,"釜石市立唐丹中学校"]
[null,77,"釜石市立大平中学校"]
[null,78,"大槌町立大槌学園中等部"]
["遠野",79,"遠野市立遠野中学校"]
["宮古",80,"山田町立山田中学校"]
["久慈",81,"久慈市立久慈中学校"]
[null,82,"久慈市立侍浜中学校"]
[null,83,"久慈市立山形中学校"]
[null,84,"洋野町立中野中学校"]
[null,85,"野田村立野田中学校"]
[null,86,"普代村立普代中学校"]
[null,87,"一関一高附属中学校"]
["地域スポーツ名",91,"侍浜バドミントンクラブ"]
[null,92,"monkey"]
[null,93,"コペルシャクラブ"]
[null,94,"club ap"]
[null,95,"花巻シャトルクラブ"]
[null,96,"湯口JBC"]
[null,97,"フラワーWing"]
[null,98,"矢沢ジュニア"]
[null,99,"飯豊BC"]
[null,100,"北上RSC"]
[null,101,"江釣子バドミントンスポーツ少年団"]
[null,102,"北上市バドミントンスポーツ少年団"]
[null,103,"MAESAWA"]
[null,104,"胆沢Bright Futures Club"]
[null,105,"TBD"]
[null,106,"赤崎シャトルズスポーツ少年団"]
[null,107,"KBF"]
[]
[]
[]
[]
[]
[]
[]
["　","リストから選択してください","学校名","学校TEL","学校FAX"]
[]
["地域スポーツ","団体","チーム名","代表TEL","代表FAX"]
["久慈","学校","学校名","学校TEL","学校FAX"]
["盛岡","学校","学校名","学校TEL","学校FAX"]
["紫波","学校","学校名","学校TEL","学校FAX"]
["岩手","学校","学校名","学校TEL","学校FAX"]
["花巻","学校","学校名","学校TEL","学校FAX"]
["和賀","学校","学校名","学校TEL","学校FAX"]
["胆江","学校","学校名","学校TEL","学校FAX"]
["一関","学校","学校名","学校TEL","学校FAX"]
["気仙","学校","学校名","学校TEL","学校FAX"]
["釜石大槌","学校","学校名","学校TEL","学校FAX"]
["遠野","学校","学校名","学校TEL","学校FAX"]

{"sheet":"申込書","index":1,"n_rows":42,"n_cols":10,"rows_kept":42,"cut":false,"hidden":false,"merged":[[40,5,40,6],[0,0,0,6],[3,5,3,6],[4,1,4,3],[3,1,3,3],[12,0,13,0],[12,1,13,1],[14,0,21,0],[4,4,4,6],[5,5,5,6],[6,5,6,6],[7,5,7,6],[8,0,8,3],[5,1,5,3],[6,1,6,3],[7,1,7,3],[14,1,15,1],[20,1,21,1],[16,1,17,1],[18,1,19,1],[25,0,26,0],[25,1,26,1],[27,0,34,0],[27,1,28,1],[29,1,30,1],[31,1,32,1],[33,1,34,1]]}
["第33回岩手県中学校バドミントンダブルス大会"]
[]
[null,null,null,"地区名",null,"地区",null,null,null,"・"]
[{"$f":"VLOOKUP($E3,学校ＩＤ一覧!$A$104:$E$116,3,FALSE)","v":{"$error":"#N/A"}},"立",null,null,null,{"$f":"VLOOKUP($E3,学校ＩＤ一覧!$A$104:$E$116,2,FALSE)","v":{"$error":"#N/A"}}]
["所在地　〒"]
[{"$f":"VLOOKUP($E3,学校ＩＤ一覧!$A$104:$E$116,4,FALSE)","v":{"$error":"#N/A"}},null,null,null,{"$f":"VLOOKUP($E3,学校ＩＤ一覧!$A$104:$E$116,5,FALSE)","v":{"$error":"#N/A"}}]
["申込責任者",null,null,null,"緊急連絡先(携帯電話等)"]
["引率責任者",null,null,null,"緊急連絡先(携帯電話等)"]
["（申込責任者と同じ場合は記入不要）"]
[]
["男子",null,null,null,null,"監督氏名"]
[null,"順位",null,"名前（姓と名の間に空白）","ふりがな（ひらかな全角）","学校名","主な成績"]
["代表選手",null,"BD",null,null,{"$f":"IF($E$4=\"\",\"\",$E$3&$J$3&$E$4)","v":""}]
[null,null,"BD",null,null,{"$f":"IF($E$4=\"\",\"\",$E$3&$J$3&$E$4)","v":""}]
["協会推薦\n選手",null,"BD",null,null,""]
[null,null,"BD",null,null,""]
[null,null,"BD",null,null,""]
[null,null,"BD",null,null,""]
[null,null,"BD",null,null,""]
[null,null,"BD",null,null,""]
[null,null,"BD",null,null,""]
[null,null,"BD",null,null,""]
[]
["女子",null,null,null,null,"監督氏名"]
[null,"順位",null,"名前（姓と名の間に空白）","ふりがな（ひらかな全角）","学校名","主な成績"]
["代表選手",null,"GD",null,null,{"$f":"IF($E$4=\"\",\"\",$E$3&$J$3&$E$4)","v":""}]
[null,null,"GD",null,null,{"$f":"IF($E$4=\"\",\"\",$E$3&$J$3&$E$4)","v":""}]
["協会推薦\n選手",null,"GD",null,null,""]
[null,null,"GD",null,null,""]
[null,null,"GD",null,null,""]
[null,null,"GD",null,null,""]
[null,null,"GD",null,null,""]
[null,null,"GD",null,null,""]
[null,null,"GD",null,null,""]
[null,null,"GD",null,null,""]
[]
["参加組数",null,null,"男子","女子","合計"]
[null,null,null,{"$f":"MAX(B13:B22)","v":0},{"$f":"MAX(B26:B35)","v":0},{"$f":"(D38+E38)","v":0}]
[]
[null,null,null,null,"チーム合計",{"$f":"F38*2000","v":0},"円"]
[null,null,null,null,"振り込み完了日"]
[null,null,null,null,null,"2023-12-20","のように入力"]

{"sheet":"健康観察簿","index":2,"n_rows":37,"n_cols":5,"rows_kept":37,"cut":false,"hidden":true,"merged":[[21,1,22,1],[23,1,26,1],[29,1,34,1],[0,1,0,4],[5,4,5,5],[6,4,6,5],[11,1,12,1],[13,1,16,1]]}
[null,"健康観察簿（提出用）"]
[]
[null,null,{"$f":"申込書!B4","v":"立"},{"$f":"申込書!E4","v":0},"学校"]
[null,{"$f":"申込書!A5","v":"所在地　〒"},{"$f":"申込書!B5","v":0}]
[null,{"$f":"申込書!A6","v":{"$error":"#N/A"}},{"$f":"申込書!B6","v":0},{"$f":"申込書!E6","v":{"$error":"#N/A"}},{"$f":"申込書!F6","v":0}]
[null,{"$f":"申込書!A7","v":"申込責任者"},{"$f":"申込書!B7","v":0},{"$f":"申込書!E7&申込書!F7","v":"緊急連絡先(携帯電話等)"}]
[null,{"$f":"申込書!A8","v":"引率責任者"},{"$f":"申込書!B8","v":0},{"$f":"申込書!E8&申込書!F8","v":"緊急連絡先(携帯電話等)"}]
[]
[null,{"$f":"申込書!A11","v":"男子"},"氏名","住所（それぞれの住所を記載）","当日の体温"]
[null,"監督"]
[null,"アドバイザー"]
[null,{"$f":"申込書!A13","v":"代表選手"},{"$f":"IF(申込書!D13=\"\",\"\",申込書!D13)","v":""}]
[null,null,{"$f":"IF(申込書!D14=\"\",\"\",申込書!D14)","v":""}]
[null,"協会\n推薦選手\n・\n帯同審判",{"$f":"IF(申込書!D15=\"\",\"\",申込書!D15)","v":""}]
[null,null,{"$f":"IF(申込書!D16=\"\",\"\",申込書!D16)","v":""}]
[null,null,{"$f":"IF(申込書!D21=\"\",\"\",申込書!D21)","v":""}]
[null,null,{"$f":"IF(申込書!D22=\"\",\"\",申込書!D22)","v":""}]
[]
[null,{"$f":"申込書!A24","v":"女子"},"氏名","住所（それぞれの住所を記載）","当日の体温"]
[null,"監督"]
[null,"アドバイザー"]
[null,{"$f":"申込書!#REF!","v":{"$error":"#REF!"}},{"$f":"IF(申込書!#REF!=\"\",\"\",申込書!#REF!)","v":{"$error":"#REF!"}}]
[null,null,{"$f":"IF(申込書!#REF!=\"\",\"\",申込書!#REF!)","v":{"$error":"#REF!"}}]
[null,"協会\n推薦選手\n・\n帯同審判",{"$f":"IF(申込書!#REF!=\"\",\"\",申込書!#REF!)","v":{"$error":"#REF!"}}]
[null,null,{"$f":"IF(申込書!#REF!=\"\",\"\",申込書!#REF!)","v":{"$error":"#REF!"}}]
[null,null,{"$f":"IF(申込書!#REF!=\"\",\"\",申込書!#REF!)","v":{"$error":"#REF!"}}]
[null,null,{"$f":"IF(申込書!#REF!=\"\",\"\",申込書!#REF!)","v":{"$error":"#REF!"}}]
[]
[null,null,"氏名","住所（それぞれの住所を記載）","当日の体温"]
[null,"保護者"]
[]
[]
[]
[]
[]
[]
[null,null,"提出責任者名"]